BEGIN:VCALENDAR
VERSION:2.0
PRODID:-//Mellano Farm Stand - ECPv6.10.2//NONSGML v1.0//EN
CALSCALE:GREGORIAN
METHOD:PUBLISH
X-WR-CALNAME:Mellano Farm Stand
X-ORIGINAL-URL:https://mellanofarmstand.com
X-WR-CALDESC:Events for Mellano Farm Stand
REFRESH-INTERVAL;VALUE=DURATION:PT1H
X-Robots-Tag:noindex
X-PUBLISHED-TTL:PT1H
BEGIN:VTIMEZONE
TZID:UTC
BEGIN:STANDARD
TZOFFSETFROM:+0000
TZOFFSETTO:+0000
TZNAME:UTC
DTSTART:20230101T000000
END:STANDARD
END:VTIMEZONE
BEGIN:VEVENT
DTSTART;VALUE=DATE:20230930
DTEND;VALUE=DATE:20231106
DTSTAMP:20260425T114917
CREATED:20230913T221331Z
LAST-MODIFIED:20230913T221401Z
UID:123711-1696032000-1699228799@mellanofarmstand.com
SUMMARY:Fall Season at the Farmstand
DESCRIPTION:Thursday-Sunday from 10:30am-5pm the farmstand will be open (normal operating hours) but September 30-November 5th will also include our pumpkin patch\, corn maze & more. Be sure to check out our weekend festivals which includes food trucks\, music\, local vendors\, a pumpkin painting station and more! \n 
URL:https://mellanofarmstand.com/event/fall-season-at-the-farmstand/
ATTACH;FMTTYPE=image/jpeg:https://mellanofarmstand.com/wp-content/uploads/2023/09/pexels-valeriia-miller-3151771-1.jpg
END:VEVENT
BEGIN:VEVENT
DTSTART;VALUE=DATE:20231007
DTEND;VALUE=DATE:20231009
DTSTAMP:20260425T114917
CREATED:20230913T221728Z
LAST-MODIFIED:20230913T222258Z
UID:123720-1696636800-1696809599@mellanofarmstand.com
SUMMARY:Oceanside Fall Festival
DESCRIPTION:Come join us on Saturday and Sunday form 10am-4pm as celebrate everything fall at the farm! Come be the first to check out our crazy corn maze and take photos in our pumpkin patch! Enjoy the fall colors in our farm by taking a tractor tour of the farm. We will be celebrating with food\, music\, vendors and even a pumpkin painting booth! Don’t miss it! \nFor up to date details on the event\, including vendor details\,  follow us on social media.
URL:https://mellanofarmstand.com/event/everything-fall-at-the-farm/
ATTACH;FMTTYPE=image/jpeg:https://mellanofarmstand.com/wp-content/uploads/2022/09/mellano-farm4-1.jpg
END:VEVENT
END:VCALENDAR