BEGIN:VCALENDAR
VERSION:2.0
PRODID:-//Mellano Farm Stand - ECPv6.10.2//NONSGML v1.0//EN
CALSCALE:GREGORIAN
METHOD:PUBLISH
X-ORIGINAL-URL:https://mellanofarmstand.com
X-WR-CALDESC:Events for Mellano Farm Stand
REFRESH-INTERVAL;VALUE=DURATION:PT1H
X-Robots-Tag:noindex
X-PUBLISHED-TTL:PT1H
BEGIN:VTIMEZONE
TZID:UTC
BEGIN:STANDARD
TZOFFSETFROM:+0000
TZOFFSETTO:+0000
TZNAME:UTC
DTSTART:20240101T000000
END:STANDARD
END:VTIMEZONE
BEGIN:VEVENT
DTSTART;VALUE=DATE:20240330
DTEND;VALUE=DATE:20240401
DTSTAMP:20260424T073606
CREATED:20240313T214411Z
LAST-MODIFIED:20240315T165138Z
UID:124029-1711756800-1711929599@mellanofarmstand.com
SUMMARY:Strawberry U-Pick opens
DESCRIPTION: April 6th & 7th \nThe warm weather is here and the berry field is ready for you to come and fill your bucket with delicious red berries! The opening of the season will coincide with our Spring Festival and then the fields will be open Thursday-Sunday from 10:30am and the last field entry at 4pm. Usually the season lasts through the summer but stay tuned for details as we rely on Mother nature for those dates! \nA strawberry bucket which includes entrance to the field is $10. Upgrade to a large bucket – $15. Entry into the field without picking is $5. \nThe strawberry field is towards the back of the farm so walking on uneven surfaces is necessary to enjoy this season’s strawberry u-pick. If you have any questions please contact us ahead of time at info@MellanoFarmStand.com.
URL:https://mellanofarmstand.com/event/strawberry-u-pick-opens/
ATTACH;FMTTYPE=image/jpeg:https://mellanofarmstand.com/wp-content/uploads/2022/07/mellano-summer-camp-4-1.jpg
END:VEVENT
END:VCALENDAR