BEGIN:VCALENDAR
VERSION:2.0
PRODID:-//Mellano Farm Stand - ECPv6.10.2//NONSGML v1.0//EN
CALSCALE:GREGORIAN
METHOD:PUBLISH
X-WR-CALNAME:Mellano Farm Stand
X-ORIGINAL-URL:https://mellanofarmstand.com
X-WR-CALDESC:Events for Mellano Farm Stand
REFRESH-INTERVAL;VALUE=DURATION:PT1H
X-Robots-Tag:noindex
X-PUBLISHED-TTL:PT1H
BEGIN:VTIMEZONE
TZID:UTC
BEGIN:STANDARD
TZOFFSETFROM:+0000
TZOFFSETTO:+0000
TZNAME:UTC
DTSTART:20240101T000000
END:STANDARD
END:VTIMEZONE
BEGIN:VEVENT
DTSTART;VALUE=DATE:20240511
DTEND;VALUE=DATE:20240513
DTSTAMP:20260424T000906
CREATED:20240313T214644Z
LAST-MODIFIED:20240313T214724Z
UID:124031-1715385600-1715558399@mellanofarmstand.com
SUMMARY:Mother’s Day
DESCRIPTION:May 11th & 12th – from 10am-4pm\nWe will have farm fun and moms pick strawberries for free!
URL:https://mellanofarmstand.com/event/124031/
ATTACH;FMTTYPE=image/jpeg:https://mellanofarmstand.com/wp-content/uploads/2021/09/melano-farm-stand-16.jpg
END:VEVENT
END:VCALENDAR