BEGIN:VCALENDAR
VERSION:2.0
PRODID:-//Mellano Farm Stand - ECPv6.10.2//NONSGML v1.0//EN
CALSCALE:GREGORIAN
METHOD:PUBLISH
X-ORIGINAL-URL:https://mellanofarmstand.com
X-WR-CALDESC:Events for Mellano Farm Stand
REFRESH-INTERVAL;VALUE=DURATION:PT1H
X-Robots-Tag:noindex
X-PUBLISHED-TTL:PT1H
BEGIN:VTIMEZONE
TZID:UTC
BEGIN:STANDARD
TZOFFSETFROM:+0000
TZOFFSETTO:+0000
TZNAME:UTC
DTSTART:20240101T000000
END:STANDARD
END:VTIMEZONE
BEGIN:VEVENT
DTSTART;VALUE=DATE:20240925
DTEND;VALUE=DATE:20241104
DTSTAMP:20260423T224641
CREATED:20240821T170322Z
LAST-MODIFIED:20240912T225221Z
UID:124422-1727222400-1730678399@mellanofarmstand.com
SUMMARY:Fall Festivities!
DESCRIPTION:September 25 – November 3 | Thursday-Sunday  |  10:30am-5pm \nFall season is here! The farm stand along with the pumpkin patch and corn maze is open Thursday-Sunday from 10:30am-5pm. Join us every Saturday & Sunday to not only enjoy the pumpkin patch\, corn maze and farm stand\, but the additional weekend activities: Tractor Rides\, Bounce House/Slide\, Gem Panning\, Kids Crafts & Games\, Live Music\, Food & Artisanal Vendors\, Local Beer & Wine\, Farm Crafted Lemonade\, and more! \nSee up to date information on social media!\nhttps://www.instagram.com/mellanofarmstand/ \n 
URL:https://mellanofarmstand.com/event/fall-festivities/
ATTACH;FMTTYPE=image/jpeg:https://mellanofarmstand.com/wp-content/uploads/2024/08/pumpkin-display.jpg
END:VEVENT
END:VCALENDAR