BEGIN:VCALENDAR
VERSION:2.0
PRODID:-//Mellano Farm Stand - ECPv6.10.2//NONSGML v1.0//EN
CALSCALE:GREGORIAN
METHOD:PUBLISH
X-WR-CALNAME:Mellano Farm Stand
X-ORIGINAL-URL:https://mellanofarmstand.com
X-WR-CALDESC:Events for Mellano Farm Stand
REFRESH-INTERVAL;VALUE=DURATION:PT1H
X-Robots-Tag:noindex
X-PUBLISHED-TTL:PT1H
BEGIN:VTIMEZONE
TZID:UTC
BEGIN:STANDARD
TZOFFSETFROM:+0000
TZOFFSETTO:+0000
TZNAME:UTC
DTSTART:20260101T000000
END:STANDARD
END:VTIMEZONE
BEGIN:VEVENT
DTSTART;TZID=UTC:20260629T090000
DTEND;TZID=UTC:20260703T150000
DTSTAMP:20260419T133626
CREATED:20260224T013716Z
LAST-MODIFIED:20260224T013716Z
UID:127378-1782723600-1783090800@mellanofarmstand.com
SUMMARY:Summer Farm Camp\, Session 2 (June 29-July 3\, 2026)
DESCRIPTION:Join us for a week of farm fun! We are passionate about sharing our family farm with kids! \nWhen: Jun 29\, 2026\, 9:00 AM PDTJul 3\, 2026\, 3:00 PM PDT\nWhere: Mellano Farm Stand – 5714 North River Road\, Oceanside 92057\nTickets Here: Session 2 \nFarm Camp will include: \nAge-appropriate farm & nature exploration\nAttending to & feeding the farm animals\nGames & relay races\nArts & crafts\nHarvesting produce and using it to make snacks\nPicking flowers\nLearning about worms and bugs\nAnd more! \nMonday through Friday\, 9am-3pm. \nKids bring a packed lunch\, but all snacks and supplies will be provided. \nFarm Camp is specifically geared towards 6-9 year-olds\, but if your 5-year old is interested in joining us…contact us and we can usually make an exception! \nWe also love having 10- & 11-year olds join us. They will not only participate in Farm Camp\, but will also have some events/projects more geared for their advanced ages as well as assist the leaders in other projects! \nLast year our farm camps sold out quickly so contact us with any questions (Info@MellanoFarmStand.com) and sign up today! \nPlease note we have four separate Farm Camp weeks offered throughout the summer so if this week does not fit your schedule\, check out our other dates! \nSee you at the farm! \n10% sibling discount. Contact us ahead of time for a code to use at checkout. \n********* \nRefund policy: \nUp to 30 days before camp starts – full refund (minus 10% processing fee) or transfer to another available camp date. \nUp to 14 days before camp starts – 50% refund (minus 10% fee) or transfer to another available camp date. \n13 days prior through the Friday before camp starts – Transfer to another available camp date. \n*If you choose to transfer to another available camp date\, contact Info@MellanoFarmStand.com directly for us to discuss options and manually make the agreed upon changes. Thank you.
URL:https://mellanofarmstand.com/event/summer-farm-camp-session-2-june-29-july-3-2026/
ATTACH;FMTTYPE=image/webp:https://mellanofarmstand.com/wp-content/uploads/2026/02/event-1-1.webp
END:VEVENT
END:VCALENDAR